BEGIN:VCALENDAR
VERSION:2.0
PRODID:DPCALENDAR
CALSCALE:GREGORIAN
X-WR-TIMEZONE:UTC
BEGIN:VEVENT
DTSTART;VALUE=DATE:20241028
DTEND;VALUE=DATE:20241101
UID:CE0F43ED-293E-4CD7-9E42-8EADC626E7D3
SUMMARY:Herbstferien
CREATED:20240906T152630Z
DTSTAMP:20240906T152630Z
URL:https://nmskautzen.ac.at/index.php/info-bereich/termine/herbstferien
LAST-MODIFIED:20240906T152630Z
SEQUENCE:0
X-ACCESS:1
X-HITS:3
X-COLOR:d2d2d1
X-SHOW-END-TIME:1
END:VEVENT
BEGIN:VEVENT
DTSTART;VALUE=DATE:20241101
DTEND;VALUE=DATE:20241102
UID:DEA684B0-3E3F-4B11-9880-CBDC2D9F7B1C
SUMMARY:Allerheiligen
CREATED:20240906T152651Z
DTSTAMP:20240906T152651Z
URL:https://nmskautzen.ac.at/index.php/info-bereich/termine/allerheiligen
LAST-MODIFIED:20240906T152651Z
SEQUENCE:0
X-ACCESS:1
X-HITS:14
X-COLOR:d2d2d1
X-SHOW-END-TIME:1
END:VEVENT
BEGIN:VEVENT
DTSTART;VALUE=DATE:20241102
DTEND;VALUE=DATE:20241103
UID:6086DF5E-FC6A-4C46-B8C4-B05E0735E554
SUMMARY:Allerseelen
CREATED:20240906T152707Z
DTSTAMP:20240906T152707Z
URL:https://nmskautzen.ac.at/index.php/info-bereich/termine/allerseelen
LAST-MODIFIED:20240906T152707Z
SEQUENCE:0
X-ACCESS:1
X-HITS:2
X-COLOR:d2d2d1
X-SHOW-END-TIME:1
END:VEVENT
BEGIN:VEVENT
DTSTART;VALUE=DATE:20241115
DTEND;VALUE=DATE:20241116
UID:CD464071-12B3-401F-8D78-596EB1EE025B
SUMMARY:Heiliger Leopold
CREATED:20241112T074930Z
DTSTAMP:20241112T074930Z
URL:https://nmskautzen.ac.at/index.php/info-bereich/termine/heiliger-leopold
LAST-MODIFIED:20241112T074941Z
SEQUENCE:11
X-ACCESS:1
X-HITS:2
X-COLOR:d2d2d1
X-SHOW-END-TIME:1
END:VEVENT
BEGIN:VEVENT
DTSTART;VALUE=DATE:20241223
DTEND;VALUE=DATE:20250107
UID:404B8E8C-4BFD-4C43-BB89-E80ED39D48E9
SUMMARY:Weihnachtsferien
CREATED:20240906T152733Z
DTSTAMP:20240906T152733Z
URL:https://nmskautzen.ac.at/index.php/info-bereich/termine/weihnachtsferien
LAST-MODIFIED:20240906T152733Z
SEQUENCE:0
X-ACCESS:1
X-HITS:2
X-COLOR:d2d2d1
X-SHOW-END-TIME:1
END:VEVENT
BEGIN:VEVENT
DTSTART;VALUE=DATE:20250203
DTEND;VALUE=DATE:20250210
UID:940ECC75-8B51-4CD1-874E-FA89EABD47A9
SUMMARY:Semesterferien
CREATED:20240906T152757Z
DTSTAMP:20240906T152757Z
URL:https://nmskautzen.ac.at/index.php/info-bereich/termine/semesterferien
LAST-MODIFIED:20240913T105123Z
SEQUENCE:588206
X-ACCESS:1
X-HITS:6
X-COLOR:d2d2d1
X-SHOW-END-TIME:1
END:VEVENT
BEGIN:VEVENT
DTSTART;VALUE=DATE:20250412
DTEND;VALUE=DATE:20250422
UID:4BE1E07B-6568-4702-AB0C-F30C826FCA96
SUMMARY:Osterferien
CREATED:20240906T152954Z
DTSTAMP:20240906T152954Z
URL:https://nmskautzen.ac.at/index.php/info-bereich/termine/osterferien
LAST-MODIFIED:20240906T152954Z
SEQUENCE:0
X-ACCESS:1
X-HITS:5
X-COLOR:d2d2d1
X-SHOW-END-TIME:1
END:VEVENT
BEGIN:VEVENT
DTSTART;VALUE=DATE:20250501
DTEND;VALUE=DATE:20250502
UID:54E27137-B075-42F6-905B-7E9F177E5E05
SUMMARY:Staatsfeiertag
CREATED:20241119T095600Z
DTSTAMP:20241119T095600Z
URL:https://nmskautzen.ac.at/index.php/info-bereich/termine/staatsfeiertag
LAST-MODIFIED:20241119T095600Z
SEQUENCE:0
X-ACCESS:1
X-HITS:1
X-COLOR:d2d2d1
X-SHOW-END-TIME:1
END:VEVENT
BEGIN:VEVENT
DTSTART;VALUE=DATE:20250502
DTEND;VALUE=DATE:20250503
UID:4557A783-79A7-48C6-A506-BBF18F8A2055
SUMMARY:schulautonom frei
CREATED:20240918T065357Z
DTSTAMP:20240918T065357Z
URL:https://nmskautzen.ac.at/index.php/info-bereich/termine/schulautonom-frei
LAST-MODIFIED:20240918T065357Z
SEQUENCE:0
X-ACCESS:1
X-HITS:2
X-COLOR:d2d2d1
X-SHOW-END-TIME:1
END:VEVENT
BEGIN:VEVENT
DTSTART;VALUE=DATE:20250529
DTEND;VALUE=DATE:20250530
UID:D1894A9B-A276-447F-BDF0-F4DFF173C352
SUMMARY:Christi Himmelfahrt
CREATED:20241119T095642Z
DTSTAMP:20241119T095642Z
URL:https://nmskautzen.ac.at/index.php/info-bereich/termine/christi-himmelfahrt
LAST-MODIFIED:20241119T095642Z
SEQUENCE:0
X-ACCESS:1
X-HITS:2
X-COLOR:d2d2d1
X-SHOW-END-TIME:1
END:VEVENT
BEGIN:VEVENT
DTSTART;VALUE=DATE:20250530
DTEND;VALUE=DATE:20250531
UID:22F4859C-D9B9-4417-BEB2-3DEA20824AB4
SUMMARY:schulautonom frei
CREATED:20240918T065437Z
DTSTAMP:20240918T065437Z
URL:https://nmskautzen.ac.at/index.php/info-bereich/termine/schulautonom-frei-2
LAST-MODIFIED:20240918T065516Z
SEQUENCE:39
X-ACCESS:1
X-HITS:3
X-COLOR:d2d2d1
X-SHOW-END-TIME:1
END:VEVENT
BEGIN:VEVENT
DTSTART;VALUE=DATE:20250607
DTEND;VALUE=DATE:20250610
UID:ABE68335-6569-4228-8B15-871E2238475A
SUMMARY:Pfingstferien
CREATED:20240906T153116Z
DTSTAMP:20240906T153116Z
URL:https://nmskautzen.ac.at/index.php/info-bereich/termine/pfingstferien
LAST-MODIFIED:20240906T153116Z
SEQUENCE:0
X-ACCESS:1
X-HITS:2
X-COLOR:d2d2d1
X-SHOW-END-TIME:1
END:VEVENT
BEGIN:VEVENT
DTSTART;VALUE=DATE:20250619
DTEND;VALUE=DATE:20250620
UID:12C23B11-B38A-4766-AC4B-801EB4443D8F
SUMMARY:Fronleichnam
CREATED:20241119T095704Z
DTSTAMP:20241119T095704Z
URL:https://nmskautzen.ac.at/index.php/info-bereich/termine/fronleichnam
LAST-MODIFIED:20241119T095704Z
SEQUENCE:0
X-ACCESS:1
X-HITS:6
X-COLOR:d2d2d1
X-SHOW-END-TIME:1
END:VEVENT
BEGIN:VEVENT
DTSTART;VALUE=DATE:20250628
DTEND;VALUE=DATE:20250901
UID:CD68E5D1-48F4-4F0F-9BF5-7B4DD5668263
SUMMARY:Sommerferien
CREATED:20240906T153141Z
DTSTAMP:20240906T153141Z
URL:https://nmskautzen.ac.at/index.php/info-bereich/termine/sommerferien
LAST-MODIFIED:20240906T153141Z
SEQUENCE:0
X-ACCESS:1
X-HITS:11
X-COLOR:d2d2d1
X-SHOW-END-TIME:1
END:VEVENT
BEGIN:VEVENT
DTSTART;VALUE=DATE:20251026
DTEND;VALUE=DATE:20251027
UID:939803ED-D8A4-40A2-AD55-3EB0CDBB36C3
SUMMARY:Nationalfeiertag
CREATED:20250930T090035Z
DTSTAMP:20250930T090035Z
URL:https://nmskautzen.ac.at/index.php/info-bereich/termine/nationalfeiertag
LAST-MODIFIED:20250930T090035Z
SEQUENCE:0
X-ACCESS:1
X-HITS:2
X-COLOR:d2d2d1
X-SHOW-END-TIME:1
END:VEVENT
BEGIN:VEVENT
DTSTART;VALUE=DATE:20251027
DTEND;VALUE=DATE:20251101
UID:9E0166A8-2C38-42B6-AF2B-92E57D3EF50F
SUMMARY:Herbstferien
CREATED:20250930T090120Z
DTSTAMP:20250930T090120Z
URL:https://nmskautzen.ac.at/index.php/info-bereich/termine/herbstferien-2
LAST-MODIFIED:20250930T090120Z
SEQUENCE:0
X-ACCESS:1
X-HITS:6
X-COLOR:d2d2d1
X-SHOW-END-TIME:1
END:VEVENT
BEGIN:VEVENT
DTSTART;VALUE=DATE:20251101
DTEND;VALUE=DATE:20251102
UID:761DF64E-549B-4FD3-B5E4-DC03A3F4D41D
SUMMARY:Allerheiligen
CREATED:20250930T090143Z
DTSTAMP:20250930T090143Z
URL:https://nmskautzen.ac.at/index.php/info-bereich/termine/allerheiligen-2
LAST-MODIFIED:20250930T090143Z
SEQUENCE:0
X-ACCESS:1
X-HITS:8
X-COLOR:d2d2d1
X-SHOW-END-TIME:1
END:VEVENT
BEGIN:VEVENT
DTSTART;VALUE=DATE:20251102
DTEND;VALUE=DATE:20251103
UID:6007D701-E72F-410C-A82D-42DDEA139F33
SUMMARY:Allerseelen
CREATED:20250930T090205Z
DTSTAMP:20250930T090205Z
URL:https://nmskautzen.ac.at/index.php/info-bereich/termine/allerseelen-2
LAST-MODIFIED:20250930T090205Z
SEQUENCE:0
X-ACCESS:1
X-HITS:6
X-COLOR:d2d2d1
X-SHOW-END-TIME:1
END:VEVENT
BEGIN:VEVENT
DTSTART;VALUE=DATE:20251115
DTEND;VALUE=DATE:20251116
UID:570894CE-7A77-424B-BA5E-ABA389AC1C0F
SUMMARY:Hl. Leopold
CREATED:20250930T090235Z
DTSTAMP:20250930T090235Z
URL:https://nmskautzen.ac.at/index.php/info-bereich/termine/hl-leopold
LAST-MODIFIED:20250930T090235Z
SEQUENCE:0
X-ACCESS:1
X-HITS:4
X-COLOR:d2d2d1
X-SHOW-END-TIME:1
END:VEVENT
BEGIN:VEVENT
DTSTART;VALUE=DATE:20251208
DTEND;VALUE=DATE:20251209
UID:53877E93-9DD2-41A1-91F7-B3B046DACEC1
SUMMARY:Maria Empfängnis
CREATED:20250930T090258Z
DTSTAMP:20250930T090258Z
URL:https://nmskautzen.ac.at/index.php/info-bereich/termine/maria-empfaengnis
LAST-MODIFIED:20250930T090258Z
SEQUENCE:0
X-ACCESS:1
X-HITS:1
X-COLOR:d2d2d1
X-SHOW-END-TIME:1
END:VEVENT
BEGIN:VEVENT
DTSTART;VALUE=DATE:20251224
DTEND;VALUE=DATE:20260107
UID:4DE950AE-BB53-43E2-B016-007055FEF048
SUMMARY:Weihnachtsferien
CREATED:20250930T090333Z
DTSTAMP:20250930T090333Z
URL:https://nmskautzen.ac.at/index.php/info-bereich/termine/weihnachtsferien-2
LAST-MODIFIED:20250930T090333Z
SEQUENCE:0
X-ACCESS:1
X-HITS:1
X-COLOR:d2d2d1
X-SHOW-END-TIME:1
END:VEVENT
BEGIN:VEVENT
DTSTART;VALUE=DATE:20260202
DTEND;VALUE=DATE:20260209
UID:3FDDCEE4-586E-462C-A439-5C565ADD63A6
SUMMARY:Semesterferien
CREATED:20250930T090420Z
DTSTAMP:20250930T090420Z
URL:https://nmskautzen.ac.at/index.php/info-bereich/termine/semesterferien-2
LAST-MODIFIED:20250930T090420Z
SEQUENCE:0
X-ACCESS:1
X-HITS:1
X-COLOR:d2d2d1
X-SHOW-END-TIME:1
END:VEVENT
BEGIN:VEVENT
DTSTART;VALUE=DATE:20260328
DTEND;VALUE=DATE:20260407
UID:6BD11DF4-C487-43D9-8710-5224B9E13D59
SUMMARY:Osterferien
CREATED:20250930T090452Z
DTSTAMP:20250930T090452Z
URL:https://nmskautzen.ac.at/index.php/info-bereich/termine/osterferien-2
LAST-MODIFIED:20250930T090452Z
SEQUENCE:0
X-ACCESS:1
X-HITS:1
X-COLOR:d2d2d1
X-SHOW-END-TIME:1
END:VEVENT
BEGIN:VEVENT
DTSTART;VALUE=DATE:20260501
DTEND;VALUE=DATE:20260502
UID:27287D73-B92C-48BB-971D-BA0777432329
SUMMARY:Staatsfeiertag
CREATED:20250930T090521Z
DTSTAMP:20250930T090521Z
URL:https://nmskautzen.ac.at/index.php/info-bereich/termine/staatsfeiertag-2
LAST-MODIFIED:20250930T090521Z
SEQUENCE:0
X-ACCESS:1
X-HITS:1
X-COLOR:d2d2d1
X-SHOW-END-TIME:1
END:VEVENT
BEGIN:VEVENT
DTSTART;VALUE=DATE:20260514
DTEND;VALUE=DATE:20260515
UID:BA9FD898-6FE6-4CC9-9481-C3CA973407F8
SUMMARY:Christi Himmelfahrt
CREATED:20250930T090549Z
DTSTAMP:20250930T090549Z
URL:https://nmskautzen.ac.at/index.php/info-bereich/termine/christi-himmelfahrt-2
LAST-MODIFIED:20250930T090549Z
SEQUENCE:0
X-ACCESS:1
X-HITS:1
X-COLOR:d2d2d1
X-SHOW-END-TIME:1
END:VEVENT
BEGIN:VEVENT
DTSTART;VALUE=DATE:20260515
DTEND;VALUE=DATE:20260516
UID:B38125EF-C60D-4626-A723-F927CD759B05
SUMMARY:schulautonom frei
CREATED:20250930T090613Z
DTSTAMP:20250930T090613Z
URL:https://nmskautzen.ac.at/index.php/info-bereich/termine/schulautonom-frei-3
LAST-MODIFIED:20250930T090613Z
SEQUENCE:0
X-ACCESS:1
X-HITS:1
X-COLOR:d2d2d1
X-SHOW-END-TIME:1
END:VEVENT
BEGIN:VEVENT
DTSTART;VALUE=DATE:20260523
DTEND;VALUE=DATE:20260526
UID:D2E77FAA-AA2B-4DC0-8081-7E40727C06E7
SUMMARY:Pfingstferien
CREATED:20250930T090720Z
DTSTAMP:20250930T090720Z
URL:https://nmskautzen.ac.at/index.php/info-bereich/termine/pfingstferien-2
LAST-MODIFIED:20250930T090720Z
SEQUENCE:0
X-ACCESS:1
X-HITS:1
X-COLOR:d2d2d1
X-SHOW-END-TIME:1
END:VEVENT
BEGIN:VEVENT
DTSTART;VALUE=DATE:20260604
DTEND;VALUE=DATE:20260605
UID:EE5D69CE-65FF-4793-9F27-A159680C8D7B
SUMMARY:Fronleichnam
CREATED:20250930T090746Z
DTSTAMP:20250930T090746Z
URL:https://nmskautzen.ac.at/index.php/info-bereich/termine/fronleichnam-2
LAST-MODIFIED:20250930T090746Z
SEQUENCE:0
X-ACCESS:1
X-HITS:1
X-COLOR:d2d2d1
X-SHOW-END-TIME:1
END:VEVENT
BEGIN:VEVENT
DTSTART;VALUE=DATE:20260704
DTEND;VALUE=DATE:20260907
UID:43928DDF-1690-4FD4-B4DB-BF5606C95498
SUMMARY:Sommerferien
CREATED:20250930T090908Z
DTSTAMP:20250930T090908Z
URL:https://nmskautzen.ac.at/index.php/info-bereich/termine/sommerferien-2
LAST-MODIFIED:20250930T090908Z
SEQUENCE:0
X-ACCESS:1
X-HITS:1
X-COLOR:d2d2d1
X-SHOW-END-TIME:1
END:VEVENT
BEGIN:VEVENT
DTSTART;VALUE=DATE:20261026
DTEND;VALUE=DATE:20261027
UID:873C9F5E-7624-4F72-B292-48C50A806BF8
SUMMARY:Nationalfeiertag
CREATED:20260325T084344Z
DTSTAMP:20260325T084344Z
URL:https://nmskautzen.ac.at/index.php/info-bereich/termine/nationalfeiertag-2
LAST-MODIFIED:20260325T084344Z
SEQUENCE:0
X-ACCESS:1
X-HITS:0
X-COLOR:d2d2d1
X-SHOW-END-TIME:1
END:VEVENT
BEGIN:VEVENT
DTSTART;VALUE=DATE:20261027
DTEND;VALUE=DATE:20261101
UID:36107776-E8C6-4167-8BE4-C0CC975ADDA8
SUMMARY:Herbstferien
CREATED:20260325T084417Z
DTSTAMP:20260325T084417Z
URL:https://nmskautzen.ac.at/index.php/info-bereich/termine/herbstferien-3
LAST-MODIFIED:20260325T084417Z
SEQUENCE:0
X-ACCESS:1
X-HITS:0
X-COLOR:d2d2d1
X-SHOW-END-TIME:1
END:VEVENT
BEGIN:VEVENT
DTSTART;VALUE=DATE:20261101
DTEND;VALUE=DATE:20261102
UID:F98C0DB8-0A5A-47C2-A86D-0CB2ADE2D484
SUMMARY:Allerheiligen
CREATED:20260325T084441Z
DTSTAMP:20260325T084441Z
URL:https://nmskautzen.ac.at/index.php/info-bereich/termine/allerheiligen-3
LAST-MODIFIED:20260325T084441Z
SEQUENCE:0
X-ACCESS:1
X-HITS:0
X-COLOR:d2d2d1
X-SHOW-END-TIME:1
END:VEVENT
BEGIN:VEVENT
DTSTART;VALUE=DATE:20261102
DTEND;VALUE=DATE:20261103
UID:10DB95EC-9695-485E-AD4A-95EBE85212BE
SUMMARY:Allerseelen
CREATED:20260325T084507Z
DTSTAMP:20260325T084507Z
URL:https://nmskautzen.ac.at/index.php/info-bereich/termine/allerseelen-3
LAST-MODIFIED:20260325T084507Z
SEQUENCE:0
X-ACCESS:1
X-HITS:0
X-COLOR:d2d2d1
X-SHOW-END-TIME:1
END:VEVENT
BEGIN:VEVENT
DTSTART;VALUE=DATE:20261115
DTEND;VALUE=DATE:20261116
UID:2A2D8034-73FF-400E-AE19-44B3096CAF80
SUMMARY:Hl. Leopold - Landespatron
CREATED:20260325T084921Z
DTSTAMP:20260325T084921Z
URL:https://nmskautzen.ac.at/index.php/info-bereich/termine/hl-leopold-landespatron
LAST-MODIFIED:20260325T084921Z
SEQUENCE:0
X-ACCESS:1
X-HITS:0
X-COLOR:d2d2d1
X-SHOW-END-TIME:1
END:VEVENT
BEGIN:VEVENT
DTSTART;VALUE=DATE:20261208
DTEND;VALUE=DATE:20261209
UID:7A4E00EB-50D7-4902-9716-3F441F925954
SUMMARY:Maria Empfängnis
CREATED:20260325T084947Z
DTSTAMP:20260325T084947Z
URL:https://nmskautzen.ac.at/index.php/info-bereich/termine/maria-empfaengnis-2
LAST-MODIFIED:20260325T084947Z
SEQUENCE:0
X-ACCESS:1
X-HITS:0
X-COLOR:d2d2d1
X-SHOW-END-TIME:1
END:VEVENT
BEGIN:VEVENT
DTSTART;VALUE=DATE:20261224
DTEND;VALUE=DATE:20270107
UID:3FA93CE5-E837-4F65-B189-FB51AF3FB0E9
SUMMARY:Weihnachtsferien
CREATED:20260325T085032Z
DTSTAMP:20260325T085032Z
URL:https://nmskautzen.ac.at/index.php/info-bereich/termine/weihnachtsferien-3
LAST-MODIFIED:20260325T085032Z
SEQUENCE:0
X-ACCESS:1
X-HITS:0
X-COLOR:d2d2d1
X-SHOW-END-TIME:1
END:VEVENT
BEGIN:VEVENT
DTSTART;VALUE=DATE:20270201
DTEND;VALUE=DATE:20270207
UID:4286D991-2A90-451A-92E4-C55C5E5241D4
SUMMARY:Semesterferien
CREATED:20260325T085333Z
DTSTAMP:20260325T085333Z
URL:https://nmskautzen.ac.at/index.php/info-bereich/termine/semesterferien-3
LAST-MODIFIED:20260325T085624Z
SEQUENCE:171
X-ACCESS:1
X-HITS:0
X-COLOR:d2d2d1
X-SHOW-END-TIME:1
END:VEVENT
BEGIN:VEVENT
DTSTART;VALUE=DATE:20270320
DTEND;VALUE=DATE:20270330
UID:8A3BB08D-676E-4CB0-B36C-BB79980096DE
SUMMARY:Osterferien
CREATED:20260325T085800Z
DTSTAMP:20260325T085800Z
URL:https://nmskautzen.ac.at/index.php/info-bereich/termine/osterferien-3
LAST-MODIFIED:20260325T085800Z
SEQUENCE:0
X-ACCESS:1
X-HITS:0
X-COLOR:d2d2d1
X-SHOW-END-TIME:1
END:VEVENT
BEGIN:VEVENT
DTSTART;VALUE=DATE:20270501
DTEND;VALUE=DATE:20270502
UID:BE1B7B87-777A-4AC7-9559-C7A6E9F6F49B
SUMMARY:Staatsfeiertag
CREATED:20260325T085831Z
DTSTAMP:20260325T085831Z
URL:https://nmskautzen.ac.at/index.php/info-bereich/termine/staatsfeiertag-3
LAST-MODIFIED:20260325T085831Z
SEQUENCE:0
X-ACCESS:1
X-HITS:0
X-COLOR:d2d2d1
X-SHOW-END-TIME:1
END:VEVENT
BEGIN:VEVENT
DTSTART;VALUE=DATE:20270506
DTEND;VALUE=DATE:20270507
UID:4831ECC1-4BE6-4BC8-8739-5A14CE198176
SUMMARY:Christi Himmelfahrt
CREATED:20260325T085858Z
DTSTAMP:20260325T085858Z
URL:https://nmskautzen.ac.at/index.php/info-bereich/termine/christi-himmelfahrt-3
LAST-MODIFIED:20260325T085858Z
SEQUENCE:0
X-ACCESS:1
X-HITS:0
X-COLOR:d2d2d1
X-SHOW-END-TIME:1
END:VEVENT
BEGIN:VEVENT
DTSTART;VALUE=DATE:20270515
DTEND;VALUE=DATE:20270518
UID:3DED4285-63B5-4649-A089-41EB084B9E5B
SUMMARY:Pfingstferien
CREATED:20260325T090017Z
DTSTAMP:20260325T090017Z
URL:https://nmskautzen.ac.at/index.php/info-bereich/termine/pfingstferien-3
LAST-MODIFIED:20260325T090953Z
SEQUENCE:576
X-ACCESS:1
X-HITS:0
X-COLOR:d2d2d1
X-SHOW-END-TIME:1
END:VEVENT
BEGIN:VEVENT
DTSTART;VALUE=DATE:20270527
DTEND;VALUE=DATE:20270528
UID:90488B80-078A-48EA-A15F-7EDEA4070A4B
SUMMARY:Fronleichnam
CREATED:20260325T090106Z
DTSTAMP:20260325T090106Z
URL:https://nmskautzen.ac.at/index.php/info-bereich/termine/fronleichnam-3
LAST-MODIFIED:20260325T090106Z
SEQUENCE:0
X-ACCESS:1
X-HITS:0
X-COLOR:d2d2d1
X-SHOW-END-TIME:1
END:VEVENT
BEGIN:VEVENT
DTSTART;VALUE=DATE:20270703
DTEND;VALUE=DATE:20270906
UID:7718078B-A4EF-4A9B-B30D-77EAF8B9538E
SUMMARY:Sommerferien
CREATED:20260325T090213Z
DTSTAMP:20260325T090213Z
URL:https://nmskautzen.ac.at/index.php/info-bereich/termine/sommerferien-3
LAST-MODIFIED:20260325T090213Z
SEQUENCE:0
X-ACCESS:1
X-HITS:0
X-COLOR:d2d2d1
X-SHOW-END-TIME:1
END:VEVENT
END:VCALENDAR